BEGIN:VCALENDAR
VERSION:2.0
PRODID:-//ChamberMaster//Event Calendar 2.0//EN
METHOD:PUBLISH
X-PUBLISHED-TTL:P3D
REFRESH-INTERVAL:P3D
CALSCALE:GREGORIAN
BEGIN:VEVENT
DTSTART:20251010T130000Z
DTEND:20251010T130000Z
X-MICROSOFT-CDO-ALLDAYEVENT:FALSE
SUMMARY:RIBBON CUTTING: in2Action
DESCRIPTION:The Ambassadors will perform a ribbon cutting to celebrate the opening of the new Respite House on the in2Action Campus.
X-ALT-DESC;FMTTYPE=text/html:<p style="margin-top: 0px\; margin-bottom: 0px\; font-family: Aptos\, sans-serif\; font-size: 12pt\;"><span style="font-family: Aptos\, Aptos_EmbeddedFont\, Aptos_MSFontService\, Calibri\, Helvetica\, sans-serif\; color: rgb(0\, 0\, 0)\;">The Ambassadors will perform a ribbon cutting to celebrate the opening of the new Respite House on the in2Action Campus.&nbsp\;</span></p>\n
LOCATION:2501 Eastwood Columbia\, MO Missouri 65202 United States
UID:e.2790.12251
SEQUENCE:3
DTSTAMP:20260420T130621Z
URL:https://business.comochamber.com/events/details/ribbon-cutting-in2action-12251
END:VEVENT

END:VCALENDAR
