BEGIN:VCALENDAR
VERSION:2.0
PRODID:-//ChamberMaster//Event Calendar 2.0//EN
METHOD:PUBLISH
X-PUBLISHED-TTL:P3D
REFRESH-INTERVAL:P3D
CALSCALE:GREGORIAN
BEGIN:VEVENT
DTSTART:20250922T173000Z
DTEND:20250922T180000Z
X-MICROSOFT-CDO-ALLDAYEVENT:FALSE
SUMMARY:RIBBON CUTTING: Impact Support Services
DESCRIPTION:The Ambassadors will perform a ribbon cutting to celebrate the 50th Anniversary of Impact Support Services.
X-ALT-DESC;FMTTYPE=text/html:The Ambassadors will perform a ribbon cutting to celebrate the 50th Anniversary of Impact Support Services.&nbsp\;&nbsp\;&nbsp\;&nbsp\;&nbsp\;&nbsp\;&nbsp\;&nbsp\;
LOCATION:1605 Chapel Hill\, Ste. E\, Columbia\, MO 65203
UID:e.2790.12097
SEQUENCE:3
DTSTAMP:20260420T180055Z
URL:https://business.comochamber.com/events/details/ribbon-cutting-impact-support-services-12097
END:VEVENT

END:VCALENDAR
