BEGIN:VCALENDAR
VERSION:2.0
PRODID:-//ChamberMaster//Event Calendar 2.0//EN
METHOD:PUBLISH
X-PUBLISHED-TTL:P3D
REFRESH-INTERVAL:P3D
CALSCALE:GREGORIAN
BEGIN:VEVENT
DTSTART:20210615T200000Z
DTEND:20210615T203000Z
X-MICROSOFT-CDO-ALLDAYEVENT:FALSE
SUMMARY:RIBBON CUTTING: IMKO Workforce Solutions
DESCRIPTION:Ambassadors will host a ribbon cutting celebrating IMKO Workforce Solutions move to their new location. \n\nThe Kona Ice truck will be there for a refreshing treat onsite at the Ribbon Cutting.  Tours are available of their services and onboarding training room.
X-ALT-DESC;FMTTYPE=text/html:Ambassadors will host a ribbon cutting celebrating IMKO Workforce Solutions move to their new location.&nbsp\;<br />\nThe Kona Ice truck will be there for a refreshing treat onsite at the Ribbon Cutting.&nbsp\; Tours are available of their services and onboarding training room.<br />\n&nbsp\;
LOCATION:IMKO Workforce Solutions 2503 Bernadette Dr. Columbia MO 65203
UID:e.2790.8031
SEQUENCE:3
DTSTAMP:20260424T084325Z
URL:https://business.comochamber.com/events/details/ribbon-cutting-imko-workforce-solutions-8031
END:VEVENT

END:VCALENDAR
