BEGIN:VCALENDAR
VERSION:2.0
PRODID:-//ChamberMaster//Event Calendar 2.0//EN
METHOD:PUBLISH
X-PUBLISHED-TTL:P3D
REFRESH-INTERVAL:P3D
CALSCALE:GREGORIAN
BEGIN:VEVENT
DTSTART:20240426T210000Z
DTEND:20240426T214500Z
X-MICROSOFT-CDO-ALLDAYEVENT:FALSE
SUMMARY:RIBBON CUTTING: Home Builders Association of Columbia
DESCRIPTION:Ambassadors will host a ribbon cutting celebrating Home Builders Association of Columbia's Parade of Homes Award Recognition.
X-ALT-DESC;FMTTYPE=text/html:<span style="font-size:14px\;"><span style="font-family:verdana\;">Ambassadors will host a ribbon cutting celebrating Home Builders Association of Columbia&#39\;s Parade of Homes Award Recognition.</span></span>
LOCATION:ACA Business Club 204 Peach Way Ste. A Columbia MO 65203
UID:e.2790.11241
SEQUENCE:3
DTSTAMP:20260421T223459Z
URL:https://business.comochamber.com/events/details/ribbon-cutting-home-builders-association-of-columbia-11241
END:VEVENT

END:VCALENDAR
