BEGIN:VCALENDAR
VERSION:2.0
PRODID:-//ChamberMaster//Event Calendar 2.0//EN
METHOD:PUBLISH
X-PUBLISHED-TTL:P3D
REFRESH-INTERVAL:P3D
CALSCALE:GREGORIAN
BEGIN:VEVENT
DTSTART:20240621T213000Z
DTEND:20240621T220000Z
X-MICROSOFT-CDO-ALLDAYEVENT:FALSE
SUMMARY:RIBBON CUTTING: Hexagon Alley
DESCRIPTION:Ambassadors will host a ribbon cutting celebrating Hexagon Alley's 1 Year Anniversary.
X-ALT-DESC;FMTTYPE=text/html:<span style="font-family:verdana\;">Ambassadors will host a ribbon cutting celebrating Hexagon Alley&#39\;s 1 Year Anniversary.&nbsp\;</span>
LOCATION:Hexagon Alley 111 S. 9th St. Ste.10 Columbia MO 65201
UID:e.2790.11417
SEQUENCE:3
DTSTAMP:20260421T191025Z
URL:https://business.comochamber.com/events/details/ribbon-cutting-hexagon-alley-11417
END:VEVENT

END:VCALENDAR
