BEGIN:VCALENDAR
VERSION:2.0
PRODID:-//ChamberMaster//Event Calendar 2.0//EN
METHOD:PUBLISH
X-PUBLISHED-TTL:P3D
REFRESH-INTERVAL:P3D
CALSCALE:GREGORIAN
BEGIN:VEVENT
DTSTART:20250317T214500Z
DTEND:20250317T220000Z
X-MICROSOFT-CDO-ALLDAYEVENT:FALSE
SUMMARY:RIBBON CUTTING: Heart of Missouri United Way
DESCRIPTION:Ambassadors will perform a ribbon cutting to celebrate the future of Heart of Missouri United Way with new President and CEO Talia Jackson.
X-ALT-DESC;FMTTYPE=text/html:<span style="font-size:12px\;"><span style="font-family:arial\;">Ambassadors will perform a ribbon cutting to celebrate the <!--StartFragment--><span data-olk-copy-source="MessageBody">future of Heart of Missouri United Way with new President and CEO Talia Jackson</span><!--EndFragment-->.&nbsp\;</span></span>
LOCATION:The Clinton Club at Mizzou Arena 1 Champions Drive Columbia\, MO 65211
UID:e.2790.11989
SEQUENCE:3
DTSTAMP:20260421T054242Z
URL:https://business.comochamber.com/events/details/ribbon-cutting-heart-of-missouri-united-way-11989
END:VEVENT

END:VCALENDAR
