BEGIN:VCALENDAR
VERSION:2.0
PRODID:-//ChamberMaster//Event Calendar 2.0//EN
METHOD:PUBLISH
X-PUBLISHED-TTL:P3D
REFRESH-INTERVAL:P3D
CALSCALE:GREGORIAN
BEGIN:VEVENT
DTSTART:20201005T203000Z
DTEND:20201005T210000Z
X-MICROSOFT-CDO-ALLDAYEVENT:FALSE
SUMMARY:RIBBON CUTTING: Heart of Missouri CASA
DESCRIPTION:Ambassadors will host a ribbon cutting celebrating one of our Small Business of the Year 2020 Finalist Heart of Missouri CASA.\n\n\n\nHeart of Missouri CASA (Court Appointed Special Advocates) believes every child who has been abused or neglected deserves to have a dedicated advocate speaking up for their best interest in court\, at school and in our community. To accomplish this\, CASA educates and empowers community volunteers who ensure each child's needs remain a priority in an overburdened child welfare system.
X-ALT-DESC;FMTTYPE=text/html:<span style="font-size:14px\;"><span style="font-family:verdana\;">Ambassadors will host a ribbon cutting celebrating one of our Small Business of the Year 2020 Finalist Heart of Missouri CASA.<br />\n<br />\n<span style="color: rgb(0\, 0\, 0)\;">Heart of Missouri CASA (Court Appointed Special Advocates) believes every child who has been abused or neglected deserves to have a dedicated advocate speaking up for their best interest in court\, at school and in our community. To accomplish this\, CASA educates and empowers community volunteers who ensure each child&rsquo\;s needs remain a priority in an overburdened child welfare system.</span></span></span>
LOCATION:Heart of Missouri CASA 105 East Ash St. Ste.# 102 Columbia MO 65203 Please Note* The In Person location is listed for the hand full of Ambassadors conducting the ribbon cutting ceremony. "Please join us all virtually by clicking on the zoom link below." MONDAY\, OCTOBER 5 Event Start: 3:30 p.m. Ribbon cutting to follow + Heart of Missouri CASA Small Business of the Year 2020 Finalist Virtual: Join Zoom Meeting https://us02web.zoom.us/j/86400068956 Meeting ID: 864 0006 8956 Dial by your location +1 312 626 6799 US Event Held: Outside In Person Location: Heart of Missouri CASA 105 E Ash St. Ste. # 102 Taking Place: Outside the front doors of their office building. Parking: Attendees can park anywhere in the large\, or along Park Avenue next to their building. Guideline Requirements: Masks and social distancing\, Guest in small groups can take tour inside\, 5 at a time\, No special requirements. Contact: Kelly Hill 402-707-2344 Program: The program will follow the ribbon cutting.
UID:e.2790.7456
SEQUENCE:3
DTSTAMP:20260419T162222Z
URL:https://business.comochamber.com/events/details/ribbon-cutting-heart-of-missouri-casa-7456
END:VEVENT

END:VCALENDAR
