BEGIN:VCALENDAR
VERSION:2.0
PRODID:-//ChamberMaster//Event Calendar 2.0//EN
METHOD:PUBLISH
X-PUBLISHED-TTL:P3D
REFRESH-INTERVAL:P3D
CALSCALE:GREGORIAN
BEGIN:VEVENT
DTSTART:20241010T211500Z
DTEND:20241010T214500Z
X-MICROSOFT-CDO-ALLDAYEVENT:FALSE
SUMMARY:RIBBON CUTTING: Heart of Missouri CASA
DESCRIPTION:The Ambassadors will perform a ribbon cutting to raise awareness at a fundraising event about the critical needs for men as court appointed advocates for children in foster care.
X-ALT-DESC;FMTTYPE=text/html:The Ambassadors will perform a ribbon cutting to raise awareness at a fundraising event about the critical needs for men as court appointed advocates for children in foster care.
LOCATION:Pierpont General Store 7650 MO-163 Columbia\, MO 65203
UID:e.2790.11642
SEQUENCE:3
DTSTAMP:20260421T093438Z
URL:https://business.comochamber.com/events/details/ribbon-cutting-heart-of-missouri-casa-11642
END:VEVENT

END:VCALENDAR
