BEGIN:VCALENDAR
VERSION:2.0
PRODID:-//ChamberMaster//Event Calendar 2.0//EN
METHOD:PUBLISH
X-PUBLISHED-TTL:P3D
REFRESH-INTERVAL:P3D
CALSCALE:GREGORIAN
BEGIN:VEVENT
DTSTART:20240223T170000Z
DTEND:20240223T173000Z
X-MICROSOFT-CDO-ALLDAYEVENT:FALSE
SUMMARY:RIBBON CUTTING: Harry S. Truman Memorial Veteran's Hospital
DESCRIPTION:Ambassadors will host a ribbon cutting ceremony celebrating Harry S. Truman Memorial Veteran's Hospital's Dedication of Truman VA's new 3 Medicine Inpatient Unit.
X-ALT-DESC;FMTTYPE=text/html:<span style="font-size:14px\;"><span style="font-family:verdana\;">Ambassadors will host a ribbon cutting ceremony celebrating Harry S. Truman Memorial Veteran&#39\;s Hospital&#39\;s Dedication of Truman VA&#39\;s new 3 Medicine Inpatient Unit.</span></span>
LOCATION:Truman VA hospital Dr 800 Hospital Dr. Columbia MO 65201
UID:e.2790.11218
SEQUENCE:3
DTSTAMP:20260422T020254Z
URL:https://business.comochamber.com/events/details/ribbon-cutting-harry-s-truman-memorial-veteran-s-hospital-11218
END:VEVENT

END:VCALENDAR
