BEGIN:VCALENDAR
VERSION:2.0
PRODID:-//ChamberMaster//Event Calendar 2.0//EN
METHOD:PUBLISH
X-PUBLISHED-TTL:P3D
REFRESH-INTERVAL:P3D
CALSCALE:GREGORIAN
BEGIN:VEVENT
DTSTART:20240802T173000Z
DTEND:20240802T180000Z
X-MICROSOFT-CDO-ALLDAYEVENT:FALSE
SUMMARY:RIBBON CUTTING: Golden Nutrition
DESCRIPTION:Ambassadors will host a ribbon cutting celebrating Golden Nutrition's new ownership.
X-ALT-DESC;FMTTYPE=text/html:<span style="font-size:14px\;"><span style="font-family:verdana\;">Ambassadors will host a ribbon cutting celebrating Golden Nutrition&#39\;s new ownership.</span></span>
LOCATION:Golden Nutrition 2703 E. Broadway Ste. 139 Columbia MO 65201
UID:e.2790.11451
SEQUENCE:3
DTSTAMP:20260421T122507Z
URL:https://business.comochamber.com/events/details/ribbon-cutting-golden-nutrition-11451
END:VEVENT

END:VCALENDAR
