BEGIN:VCALENDAR
VERSION:2.0
PRODID:-//ChamberMaster//Event Calendar 2.0//EN
METHOD:PUBLISH
X-PUBLISHED-TTL:P3D
REFRESH-INTERVAL:P3D
CALSCALE:GREGORIAN
BEGIN:VEVENT
DTSTART:20240725T220000Z
DTEND:20240725T223000Z
X-MICROSOFT-CDO-ALLDAYEVENT:FALSE
SUMMARY:RIBBON CUTTING: GKR Motor Cars
DESCRIPTION:Ambassadors will host a ribbon cutting celebrating GKR Motor Cars Groundbreaking for their new Car Campus.
X-ALT-DESC;FMTTYPE=text/html:Ambassadors will host a ribbon cutting celebrating GKR Motor Cars Groundbreaking for their new Car Campus.
LOCATION:Area of 555 N. Tradewinds Parkway Columbia MO 65201 Note\; Located at the end of the Cul de sac directly South of Dayton Freight.
UID:e.2790.11446
SEQUENCE:3
DTSTAMP:20260421T173011Z
URL:https://business.comochamber.com/events/details/ribbon-cutting-gkr-motor-cars-11446
END:VEVENT

END:VCALENDAR
