BEGIN:VCALENDAR
VERSION:2.0
PRODID:-//ChamberMaster//Event Calendar 2.0//EN
METHOD:PUBLISH
X-PUBLISHED-TTL:P3D
REFRESH-INTERVAL:P3D
CALSCALE:GREGORIAN
BEGIN:VEVENT
DTSTART:20250807T163000Z
DTEND:20250807T170000Z
X-MICROSOFT-CDO-ALLDAYEVENT:FALSE
SUMMARY:RIBBON CUTTING: Fuji Steakhouse - Columbia
DESCRIPTION:The Ambassadors will perform a ribbon cutting to celebrate the Grand Opening of Fuji Steakhouse - Columbia.
X-ALT-DESC;FMTTYPE=text/html:The Ambassadors will perform a ribbon cutting to celebrate the Grand Opening of Fuji Steakhouse - Columbia.&nbsp\;
LOCATION:1000 1-70 Dr. SW Columbia\, MO 65203
UID:e.2790.12149
SEQUENCE:3
DTSTAMP:20260420T180622Z
URL:https://business.comochamber.com/events/details/ribbon-cutting-fuji-steakhouse-columbia-12149
END:VEVENT

END:VCALENDAR
