BEGIN:VCALENDAR
VERSION:2.0
PRODID:-//ChamberMaster//Event Calendar 2.0//EN
METHOD:PUBLISH
X-PUBLISHED-TTL:P3D
REFRESH-INTERVAL:P3D
CALSCALE:GREGORIAN
BEGIN:VEVENT
DTSTART:20250314T153000Z
DTEND:20250314T160000Z
X-MICROSOFT-CDO-ALLDAYEVENT:FALSE
SUMMARY:RIBBON CUTTING: Fresh Karma Dispensaries
DESCRIPTION:The Ambassadors will perform a ribbon cutting to celebrate the grand opening of their first Columbia location.
X-ALT-DESC;FMTTYPE=text/html:The Ambassadors will perform a ribbon cutting to celebrate the grand opening of their first Columbia location.
LOCATION:Fresh Karma Dispensaries 1407 Cinnamon Hill Lane Columbia\, MO 65201
UID:e.2790.11976
SEQUENCE:3
DTSTAMP:20260421T035613Z
URL:https://business.comochamber.com/events/details/ribbon-cutting-fresh-karma-dispensaries-11976
END:VEVENT

END:VCALENDAR
