BEGIN:VCALENDAR
VERSION:2.0
PRODID:-//ChamberMaster//Event Calendar 2.0//EN
METHOD:PUBLISH
X-PUBLISHED-TTL:P3D
REFRESH-INTERVAL:P3D
CALSCALE:GREGORIAN
BEGIN:VEVENT
DTSTART:20241023T214500Z
DTEND:20241023T221500Z
X-MICROSOFT-CDO-ALLDAYEVENT:FALSE
SUMMARY:RIBBON CUTTING: First State Bank MOrtgage
DESCRIPTION:The Ambassadors will perform a ribbon cutting to celebrate their grand opening. Drinks and light bites.
X-ALT-DESC;FMTTYPE=text/html:The Ambassadors will perform a ribbon cutting to celebrate their grand opening. Drinks and light bites.
LOCATION:The Hideaway at Harpo's 29 South 10th St Columbia\, MO 65201
UID:e.2790.11646
SEQUENCE:3
DTSTAMP:20260421T092837Z
URL:https://business.comochamber.com/events/details/ribbon-cutting-first-state-bank-mortgage-11646
END:VEVENT

END:VCALENDAR
