BEGIN:VCALENDAR
VERSION:2.0
PRODID:-//ChamberMaster//Event Calendar 2.0//EN
METHOD:PUBLISH
X-PUBLISHED-TTL:P3D
REFRESH-INTERVAL:P3D
CALSCALE:GREGORIAN
BEGIN:VEVENT
DTSTART:20241104T231500Z
DTEND:20241104T234500Z
X-MICROSOFT-CDO-ALLDAYEVENT:FALSE
SUMMARY:RIBBON CUTTING: First Presbyterian Church
DESCRIPTION:The Ambassadors will perform a ribbon cutting to celebrate the opening of Escuelita Alegria preschool in the Church's Early Childhood Center.
X-ALT-DESC;FMTTYPE=text/html:The Ambassadors will perform a ribbon cutting to celebrate the opening of Escuelita Alegria preschool in the Church&#39\;s Early Childhood Center.
LOCATION:First Presbyterian Church 16 Hitt Street Columbia\, MO 65201
UID:e.2790.11651
SEQUENCE:3
DTSTAMP:20260421T073857Z
URL:https://business.comochamber.com/events/details/ribbon-cutting-first-presbyterian-church-11651
END:VEVENT

END:VCALENDAR
