BEGIN:VCALENDAR
VERSION:2.0
PRODID:-//ChamberMaster//Event Calendar 2.0//EN
METHOD:PUBLISH
X-PUBLISHED-TTL:P3D
REFRESH-INTERVAL:P3D
CALSCALE:GREGORIAN
BEGIN:VEVENT
DTSTART:20240429T211000Z
DTEND:20240429T214000Z
X-MICROSOFT-CDO-ALLDAYEVENT:FALSE
SUMMARY:RIBBON CUTTING: First Presbyterian Church
DESCRIPTION:Ambassadors will host a ribbon cutting celebrating First Presbyterian Church's dedication of the new Butterfly bench.
X-ALT-DESC;FMTTYPE=text/html:<span style="font-size:14px\;"><span style="font-family:verdana\;">Ambassadors will host a ribbon cutting celebrating First Presbyterian Church&#39\;s dedication of the new Butterfly bench.&nbsp\;</span></span>
LOCATION:First Presbyterian Church 16 Hitt St. Columbia MO 65201
UID:e.2790.11253
SEQUENCE:3
DTSTAMP:20260421T223301Z
URL:https://business.comochamber.com/events/details/ribbon-cutting-first-presbyterian-church-11253
END:VEVENT

END:VCALENDAR
