BEGIN:VCALENDAR
VERSION:2.0
PRODID:-//ChamberMaster//Event Calendar 2.0//EN
METHOD:PUBLISH
X-PUBLISHED-TTL:P3D
REFRESH-INTERVAL:P3D
CALSCALE:GREGORIAN
BEGIN:VEVENT
DTSTART:20240815T223000Z
DTEND:20240815T230000Z
X-MICROSOFT-CDO-ALLDAYEVENT:FALSE
SUMMARY:RIBBON CUTTING: First Last Mile Valet Services
DESCRIPTION:Ambassadors will host a ribbon cutting celebrating First Last Mile Valet Service's official Launch and Grand Open.
X-ALT-DESC;FMTTYPE=text/html:<span style="font-size:14px\;"><span style="font-family:verdana\;">Ambassadors will host a ribbon cutting celebrating First Last Mile Valet Service&#39\;s official Launch and Grand Open.</span></span>
LOCATION:First Last Mile Valet Services 500 E Walnut St. Ste. 105 Columbia MO 65201
UID:e.2790.11443
SEQUENCE:3
DTSTAMP:20260421T155020Z
URL:https://business.comochamber.com/events/details/ribbon-cutting-first-last-mile-valet-services-11443
END:VEVENT

END:VCALENDAR
