BEGIN:VCALENDAR
VERSION:2.0
PRODID:-//ChamberMaster//Event Calendar 2.0//EN
METHOD:PUBLISH
X-PUBLISHED-TTL:P3D
REFRESH-INTERVAL:P3D
CALSCALE:GREGORIAN
BEGIN:VEVENT
DTSTART:20220926T133000Z
DTEND:20220926T140000Z
X-MICROSOFT-CDO-ALLDAYEVENT:FALSE
SUMMARY:RIBBON CUTTING: First Chance for Children
DESCRIPTION:Ambassadors will host a ribbon cutting celebrating First Chance for Children's Playground Dedication and Kick-off of Diaper Awareness week.
X-ALT-DESC;FMTTYPE=text/html:<span style="font-size:14px\;"><span style="font-family:verdana\;">Ambassadors will host a ribbon cutting celebrating First Chance for Children&#39\;s Playground Dedication and Kick-off of Diaper Awareness week.</span></span>
LOCATION:First Chance for Children 1002 Fay St. Columbia MO 65201
UID:e.2790.9988
SEQUENCE:3
DTSTAMP:20260423T071950Z
URL:https://business.comochamber.com/events/details/ribbon-cutting-first-chance-for-children-9988
END:VEVENT

END:VCALENDAR
