BEGIN:VCALENDAR
VERSION:2.0
PRODID:-//ChamberMaster//Event Calendar 2.0//EN
METHOD:PUBLISH
X-PUBLISHED-TTL:P3D
REFRESH-INTERVAL:P3D
CALSCALE:GREGORIAN
BEGIN:VEVENT
DTSTART:20240923T171500Z
DTEND:20240923T174500Z
X-MICROSOFT-CDO-ALLDAYEVENT:FALSE
SUMMARY:RIBBON CUTTING: First Chance for Children
DESCRIPTION:The Ambassadors will perform a ribbon cutting to perform a National Diaper Awareness Week Proclamation.
X-ALT-DESC;FMTTYPE=text/html:The Ambassadors will perform a ribbon cutting to perform a National Diaper Awareness Week Proclamation.
LOCATION:First Chance for Children 1002 Fay St Columbia\, MO 65201
UID:e.2790.11634
SEQUENCE:3
DTSTAMP:20260421T122431Z
URL:https://business.comochamber.com/events/details/ribbon-cutting-first-chance-for-children-11634
END:VEVENT

END:VCALENDAR
