BEGIN:VCALENDAR
VERSION:2.0
PRODID:-//ChamberMaster//Event Calendar 2.0//EN
METHOD:PUBLISH
X-PUBLISHED-TTL:P3D
REFRESH-INTERVAL:P3D
CALSCALE:GREGORIAN
BEGIN:VEVENT
DTSTART:20230918T133000Z
DTEND:20230918T134500Z
X-MICROSOFT-CDO-ALLDAYEVENT:FALSE
SUMMARY:RIBBON CUTTING: First Chance for Children
DESCRIPTION:Ambassadors will host a ribbon cutting celebrating First Chance for Children's Proclamation of National Diaper Awareness Week.
X-ALT-DESC;FMTTYPE=text/html:<span style="font-size:14px\;"><span style="font-family:verdana\;">Ambassadors will host a ribbon cutting celebrating First Chance for Children&#39\;s Proclamation of National Diaper Awareness Week.</span></span>
LOCATION:First Chance for Children 1002 Fay St. Columbia MO 65201
UID:e.2790.11072
SEQUENCE:3
DTSTAMP:20260422T121740Z
URL:https://business.comochamber.com/events/details/ribbon-cutting-first-chance-for-children-11072
END:VEVENT

END:VCALENDAR
