BEGIN:VCALENDAR
VERSION:2.0
PRODID:-//ChamberMaster//Event Calendar 2.0//EN
METHOD:PUBLISH
X-PUBLISHED-TTL:P3D
REFRESH-INTERVAL:P3D
CALSCALE:GREGORIAN
BEGIN:VEVENT
DTSTART:20231011T200000Z
DTEND:20231011T203000Z
X-MICROSOFT-CDO-ALLDAYEVENT:FALSE
SUMMARY:RIBBON CUTTING: Family Focus EyeCare
DESCRIPTION:Ambassadors will host a ribbon cutting celebrating Family Focus Eyecare's Grand Opening of their New Dry Eye Clinic.
X-ALT-DESC;FMTTYPE=text/html:<span style="font-size:14px\;"><span style="font-family:verdana\;">Ambassadors will host a ribbon cutting celebrating Family Focus Eyecare&#39\;s Grand Opening of their New Dry Eye Clinic.</span></span>
LOCATION:Dry Eye Clinic 3301 W. Broadway Business Park Ct. Ste. E Columbia MO 65203
UID:e.2790.11163
SEQUENCE:3
DTSTAMP:20260422T101614Z
URL:https://business.comochamber.com/events/details/ribbon-cutting-family-focus-eyecare-11163
END:VEVENT

END:VCALENDAR
