BEGIN:VCALENDAR
VERSION:2.0
PRODID:-//ChamberMaster//Event Calendar 2.0//EN
METHOD:PUBLISH
X-PUBLISHED-TTL:P3D
REFRESH-INTERVAL:P3D
CALSCALE:GREGORIAN
BEGIN:VEVENT
DTSTART:20240501T210000Z
DTEND:20240501T210000Z
X-MICROSOFT-CDO-ALLDAYEVENT:FALSE
SUMMARY:RIBBON CUTTING: Endeavor Agency\, Inc.
DESCRIPTION:Ambassadors will host a ribbon cutting celebrating Endeavor Agency's start of intrepid Professional Services\, which is a brand of Endeavor.
X-ALT-DESC;FMTTYPE=text/html:<span style="font-size:14px\;"><span style="font-family:verdana\;">Ambassadors will host a ribbon cutting celebrating Endeavor Agency&#39\;s start of intrepid Professional Services\, which is a brand of Endeavor.</span></span>
LOCATION:Endeavor Agency\, Inc. 1900 N Providence Ste. 205 Columbia\, MO 65205
UID:e.2790.11252
SEQUENCE:3
DTSTAMP:20260421T205505Z
URL:https://business.comochamber.com/events/details/ribbon-cutting-endeavor-agency-inc-11252
END:VEVENT

END:VCALENDAR
