BEGIN:VCALENDAR
VERSION:2.0
PRODID:-//ChamberMaster//Event Calendar 2.0//EN
METHOD:PUBLISH
X-PUBLISHED-TTL:P3D
REFRESH-INTERVAL:P3D
CALSCALE:GREGORIAN
BEGIN:VEVENT
DTSTART:20240708T160000Z
DTEND:20240708T160000Z
X-MICROSOFT-CDO-ALLDAYEVENT:FALSE
SUMMARY:RIBBON CUTTING: EL Poblano Grill & Cantina
DESCRIPTION:Ambassadors will host a ribbon cutting celebrating El Poblano Grill & Cantina's Grand Opening and joining the community.
X-ALT-DESC;FMTTYPE=text/html:<p><span style="font-size:14px\;"><span style="font-family:verdana\;">Ambassadors will host a ribbon cutting celebrating&nbsp\;</span></span><span style="font-size:14px\;"><span style="font-family:verdana\;">El Poblano Grill &amp\; Cantina&#39\;s Grand Opening and joining the community.</span></span></p>\n
LOCATION:EL Poblano Grill & Cantina 2513 Old 63 S. Ste. 103 Columbia MO 65201
UID:e.2790.11441
SEQUENCE:3
DTSTAMP:20260421T190048Z
URL:https://business.comochamber.com/events/details/ribbon-cutting-el-poblano-grill-cantina-11441
END:VEVENT

END:VCALENDAR
