BEGIN:VCALENDAR
VERSION:2.0
PRODID:-//ChamberMaster//Event Calendar 2.0//EN
METHOD:PUBLISH
X-PUBLISHED-TTL:P3D
REFRESH-INTERVAL:P3D
CALSCALE:GREGORIAN
BEGIN:VEVENT
DTSTART:20240503T180000Z
DTEND:20240503T183000Z
X-MICROSOFT-CDO-ALLDAYEVENT:FALSE
SUMMARY:RIBBON CUTTING: Drybar Columbia
DESCRIPTION:Ambassadors will host a ribbon cutting celebrating the Drybar Columbia's Grand Opening.
X-ALT-DESC;FMTTYPE=text/html:<span style="font-size:14px\;">Ambassadors will host a ribbon cutting celebrating the Drybar Columbia&#39\;s Grand Opening.</span>
LOCATION:Drybar Columbia 303 N. Stadium Blvd. Columbia MO 65203
UID:e.2790.11254
SEQUENCE:3
DTSTAMP:20260421T204707Z
URL:https://business.comochamber.com/events/details/ribbon-cutting-drybar-columbia-11254
END:VEVENT

END:VCALENDAR
