BEGIN:VCALENDAR
VERSION:2.0
PRODID:-//ChamberMaster//Event Calendar 2.0//EN
METHOD:PUBLISH
X-PUBLISHED-TTL:P3D
REFRESH-INTERVAL:P3D
CALSCALE:GREGORIAN
BEGIN:VEVENT
DTSTART:20240403T170000Z
DTEND:20240403T173000Z
X-MICROSOFT-CDO-ALLDAYEVENT:FALSE
SUMMARY:RIBBON CUTTING: Drybar Columbia
DESCRIPTION:Ambassadors will host a ribbon cutting celebrating the Drybar's Grand Opening.
X-ALT-DESC;FMTTYPE=text/html:<span style="font-size:14px\;"><span style="font-family:verdana\;">Ambassadors will host a ribbon cutting celebrating the Drybar&#39\;s Grand Opening.</span></span>
LOCATION:Drybar Columbia 303 N. Stadium Rd. Ste. 105 Columbia MO 65203
UID:e.2790.11251
SEQUENCE:3
DTSTAMP:20260422T001356Z
URL:https://business.comochamber.com/events/details/ribbon-cutting-drybar-columbia-11251
END:VEVENT

END:VCALENDAR
