BEGIN:VCALENDAR
VERSION:2.0
PRODID:-//ChamberMaster//Event Calendar 2.0//EN
METHOD:PUBLISH
X-PUBLISHED-TTL:P3D
REFRESH-INTERVAL:P3D
CALSCALE:GREGORIAN
BEGIN:VEVENT
DTSTART:20250501T210000Z
DTEND:20250501T213000Z
X-MICROSOFT-CDO-ALLDAYEVENT:FALSE
SUMMARY:RIBBON CUTTING: Dave Griggs Flooring America
DESCRIPTION:Ambassadors will conduct a ribbon cutting to celebrate Dave Griggs Flooring America's 50 year anniversary.
X-ALT-DESC;FMTTYPE=text/html:Ambassadors will conduct a ribbon cutting to celebrate Dave Griggs Flooring America&#39\;s 50 year anniversary.&nbsp\;&nbsp\;&nbsp\;&nbsp\;&nbsp\;
LOCATION:801 Business Loop 70 East Columbia\, MO 65201
UID:e.2790.12000
SEQUENCE:3
DTSTAMP:20260420T232918Z
URL:https://business.comochamber.com/events/details/ribbon-cutting-dave-griggs-flooring-america-12000
END:VEVENT

END:VCALENDAR
