BEGIN:VCALENDAR
VERSION:2.0
PRODID:-//ChamberMaster//Event Calendar 2.0//EN
METHOD:PUBLISH
X-PUBLISHED-TTL:P3D
REFRESH-INTERVAL:P3D
CALSCALE:GREGORIAN
BEGIN:VEVENT
DTSTART:20230706T020000Z
DTEND:20230706T023000Z
X-MICROSOFT-CDO-ALLDAYEVENT:FALSE
SUMMARY:RIBBON CUTTING: D&H Pharmacy and Clinic
DESCRIPTION:Ambassadors will host a ribbon cutting celebrating D&H Pharmacy and Clinic's Grand Opening of their new clinic.
X-ALT-DESC;FMTTYPE=text/html:<span style="font-size:14px\;"><span style="font-family:verdana\;">Ambassadors will host a ribbon cutting celebrating D&amp\;H Pharmacy and Clinic&#39\;s Grand Opening of their new clinic.</span></span>
LOCATION:D&H on Paris 1814 Paris Rd Columbia MO 65201
UID:e.2790.10925
SEQUENCE:3
DTSTAMP:20260419T181958Z
URL:https://business.comochamber.com/events/details/ribbon-cutting-d-h-pharmacy-and-clinic-10925
END:VEVENT

END:VCALENDAR
