BEGIN:VCALENDAR
VERSION:2.0
PRODID:-//ChamberMaster//Event Calendar 2.0//EN
METHOD:PUBLISH
X-PUBLISHED-TTL:P3D
REFRESH-INTERVAL:P3D
CALSCALE:GREGORIAN
BEGIN:VEVENT
DTSTART:20230804T154500Z
DTEND:20230804T161500Z
X-MICROSOFT-CDO-ALLDAYEVENT:FALSE
SUMMARY:RIBBON CUTTING: Crushed Red
DESCRIPTION:Ambassadors will host a ribbon cutting celebrating Crushed Red's re-introduction to the Columbia community.
X-ALT-DESC;FMTTYPE=text/html:<span style="font-size:14px\;"><span style="font-family:verdana\;">Ambassadors will host a ribbon cutting celebrating Crushed Red&#39\;s re-introduction to the Columbia community.</span></span>
LOCATION:Crushed Red 2540 Broadway Bluffs Columbia\, MO 65201
UID:e.2790.11076
SEQUENCE:3
DTSTAMP:20260422T121435Z
URL:https://business.comochamber.com/events/details/ribbon-cutting-crushed-red-11076
END:VEVENT

END:VCALENDAR
