BEGIN:VCALENDAR
VERSION:2.0
PRODID:-//ChamberMaster//Event Calendar 2.0//EN
METHOD:PUBLISH
X-PUBLISHED-TTL:P3D
REFRESH-INTERVAL:P3D
CALSCALE:GREGORIAN
BEGIN:VEVENT
DTSTART:20220628T210000Z
DTEND:20220628T213000Z
X-MICROSOFT-CDO-ALLDAYEVENT:FALSE
SUMMARY:RIBBON CUTTING: Crunch Fitness
DESCRIPTION:Ambassadors will host a ribbon cutting celebrating the new crunch facility in Missouri and 3 Months of Operations.
X-ALT-DESC;FMTTYPE=text/html:<span style="font-size:14px\;"><span style="font-family:verdana\;">Ambassadors will host a ribbon cutting celebrating the new crunch facility in Missouri and 3 Months of Operations.</span></span>
LOCATION:Crunch Fitness 101 S. Providence Rd. Columbia MO 65201
UID:e.2790.9121
SEQUENCE:3
DTSTAMP:20260423T115640Z
URL:https://business.comochamber.com/events/details/ribbon-cutting-crunch-fitness-9121
END:VEVENT

END:VCALENDAR
