BEGIN:VCALENDAR
VERSION:2.0
PRODID:-//ChamberMaster//Event Calendar 2.0//EN
METHOD:PUBLISH
X-PUBLISHED-TTL:P3D
REFRESH-INTERVAL:P3D
CALSCALE:GREGORIAN
BEGIN:VEVENT
DTSTART:20200114T220000Z
DTEND:20200114T223000Z
X-MICROSOFT-CDO-ALLDAYEVENT:FALSE
SUMMARY:RIBBON CUTTING: Coyote Hill Foster Care Services
DESCRIPTION:Ambassadors will host a ribbon cutting celebrating the Grand Opening of Coyote Hill Foster Care Services. Larry McDaniel\,CEO and Founder of Coyote Hill will speak.
X-ALT-DESC;FMTTYPE=text/html:<span style="font-size:14px\;"><span style="font-family:verdana\;">Ambassadors will host a ribbon cutting celebrating the Grand Opening of Coyote Hill Foster Care Services. Larry McDaniel\,CEO and Founder of Coyote Hill will speak.</span></span>
LOCATION:3610 Buttonwood Dr. Columbia MO 65201
UID:e.2790.7020
SEQUENCE:3
DTSTAMP:20260426T032849Z
URL:https://business.comochamber.com/events/details/ribbon-cutting-coyote-hill-foster-care-services-7020
END:VEVENT

END:VCALENDAR
