BEGIN:VCALENDAR
VERSION:2.0
PRODID:-//ChamberMaster//Event Calendar 2.0//EN
METHOD:PUBLISH
X-PUBLISHED-TTL:P3D
REFRESH-INTERVAL:P3D
CALSCALE:GREGORIAN
BEGIN:VEVENT
DTSTART:20250925T185000Z
DTEND:20250925T185000Z
X-MICROSOFT-CDO-ALLDAYEVENT:FALSE
SUMMARY:RIBBON CUTTING: Columbia Regional Airport
DESCRIPTION:The Ambassadors will perform a ribbon cutting to celebrate the return of United Airlines
X-ALT-DESC;FMTTYPE=text/html:<span style="font-family: Aptos\, Aptos_EmbeddedFont\, Aptos_MSFontService\, Calibri\, Helvetica\, sans-serif\; font-size: 12pt\; color: rgb(0\, 0\, 0)\;">The Ambassadors will perform a ribbon cutting to celebrate the return of United Airlines</span>
LOCATION:11350 Airport Drive (Terminal Facility Lobby) Columbia\, MO 65201
UID:e.2790.12243
SEQUENCE:3
DTSTAMP:20260420T171323Z
URL:https://business.comochamber.com/events/details/ribbon-cutting-columbia-regional-airport-12243
END:VEVENT

END:VCALENDAR
