BEGIN:VCALENDAR
VERSION:2.0
PRODID:-//ChamberMaster//Event Calendar 2.0//EN
METHOD:PUBLISH
X-PUBLISHED-TTL:P3D
REFRESH-INTERVAL:P3D
CALSCALE:GREGORIAN
BEGIN:VEVENT
DTSTART:20241113T153000Z
DTEND:20241113T160000Z
X-MICROSOFT-CDO-ALLDAYEVENT:FALSE
SUMMARY:RIBBON CUTTING: Columbia Public Schools
DESCRIPTION:The Ambassadors will perform a ribbon cutting to celebrate the construction of the new addition at Eliot Battle Elementary School.
X-ALT-DESC;FMTTYPE=text/html:The Ambassadors will perform a ribbon cutting to celebrate the construction of the new addition at Eliot Battle Elementary School.
LOCATION:Columbia Public Schools Eliot Battle Elementary School 2600 Battle Avenue Columbia MO 65202
UID:e.2790.11667
SEQUENCE:3
DTSTAMP:20260421T073858Z
URL:https://business.comochamber.com/events/details/ribbon-cutting-columbia-public-schools-11667
END:VEVENT

END:VCALENDAR
