BEGIN:VCALENDAR
VERSION:2.0
PRODID:-//ChamberMaster//Event Calendar 2.0//EN
METHOD:PUBLISH
X-PUBLISHED-TTL:P3D
REFRESH-INTERVAL:P3D
CALSCALE:GREGORIAN
BEGIN:VEVENT
DTSTART:20251009T160000Z
DTEND:20251009T163000Z
X-MICROSOFT-CDO-ALLDAYEVENT:FALSE
SUMMARY:RIBBON CUTTING: Columbia Mall
DESCRIPTION:The Ambassadors will perform a ribbon cutting to celebrate the 40th Anniversary of the Columbia Mall.
X-ALT-DESC;FMTTYPE=text/html:The Ambassadors will perform a ribbon cutting to celebrate the 40th Anniversary of the Columbia Mall.
LOCATION:The Columbia Mall Center Court\, where Cafe Court and Target wings meet 2300 Bernadette Dr\, Columbia\, MO 65203
UID:e.2790.11704
SEQUENCE:3
DTSTAMP:20260420T174232Z
URL:https://business.comochamber.com/events/details/ribbon-cutting-columbia-mall-11704
END:VEVENT

END:VCALENDAR
