BEGIN:VCALENDAR
VERSION:2.0
PRODID:-//ChamberMaster//Event Calendar 2.0//EN
METHOD:PUBLISH
X-PUBLISHED-TTL:P3D
REFRESH-INTERVAL:P3D
CALSCALE:GREGORIAN
BEGIN:VEVENT
DTSTART:20240905T223000Z
DTEND:20240905T230000Z
X-MICROSOFT-CDO-ALLDAYEVENT:FALSE
SUMMARY:RIBBON CUTTING: Columbia Independent School
DESCRIPTION:Ambassadors will host a ribbon cutting celebrating Columbia Independent Schools Grand Opening or their new Upper School
X-ALT-DESC;FMTTYPE=text/html:<span style="font-size:14px\;"><span style="font-family:verdana\;">Ambassadors will host a ribbon cutting celebrating Columbia Independent Schools Grand Opening or their new Upper School</span></span>
LOCATION:The Upper School Building 1801 N. Stadium Blvd. Columbia MO 66203
UID:e.2790.11449
SEQUENCE:3
DTSTAMP:20260421T104925Z
URL:https://business.comochamber.com/events/details/ribbon-cutting-columbia-independent-school-11449
END:VEVENT

END:VCALENDAR
