BEGIN:VCALENDAR
VERSION:2.0
PRODID:-//ChamberMaster//Event Calendar 2.0//EN
METHOD:PUBLISH
X-PUBLISHED-TTL:P3D
REFRESH-INTERVAL:P3D
CALSCALE:GREGORIAN
BEGIN:VEVENT
DTSTART:20240725T210000Z
DTEND:20240725T213000Z
X-MICROSOFT-CDO-ALLDAYEVENT:FALSE
SUMMARY:RIBBON CUTTING: Columbia Housing Authority
DESCRIPTION:Ambassadors will schedule a ribbon cutting celebrating the Columbia Housing Authority's Kinney Point Housing Development Groundbreaking.
X-ALT-DESC;FMTTYPE=text/html:<p><span style="font-size:14px\;"><span style="font-family:verdana\;">Ambassadors will schedule a ribbon cutting celebrating the Columbia Housing Authority&#39\;s Kinney Point Housing Development Groundbreaking.</span></span></p>\n
LOCATION:7 E. Sexton St. Columbia MO 65203
UID:e.2790.11423
SEQUENCE:3
DTSTAMP:20260421T190047Z
URL:https://business.comochamber.com/events/details/ribbon-cutting-columbia-housing-authority-11423
END:VEVENT

END:VCALENDAR
