BEGIN:VCALENDAR
VERSION:2.0
PRODID:-//ChamberMaster//Event Calendar 2.0//EN
METHOD:PUBLISH
X-PUBLISHED-TTL:P3D
REFRESH-INTERVAL:P3D
CALSCALE:GREGORIAN
BEGIN:VEVENT
DTSTART:20220203T233000Z
DTEND:20220204T000000Z
X-MICROSOFT-CDO-ALLDAYEVENT:FALSE
SUMMARY:RIBBON CUTTING: Columbia Entertainment Company
DESCRIPTION:Ambassadors will host a ribbon cutting celebrating Columbia Entertainment Company 300th Production: August Wilson's "Fences"
X-ALT-DESC;FMTTYPE=text/html:Ambassadors will host a ribbon cutting celebrating Columbia Entertainment Company 300th Production: August Wilson&#39\;s &quot\;Fences&quot\;
LOCATION:1800 Nelwood Dr. Columbia MO 65202
UID:e.2790.8514
SEQUENCE:3
DTSTAMP:20260423T182835Z
URL:https://business.comochamber.com/events/details/ribbon-cutting-columbia-entertainment-company-8514
END:VEVENT

END:VCALENDAR
