BEGIN:VCALENDAR
VERSION:2.0
PRODID:-//ChamberMaster//Event Calendar 2.0//EN
METHOD:PUBLISH
X-PUBLISHED-TTL:P3D
REFRESH-INTERVAL:P3D
CALSCALE:GREGORIAN
BEGIN:VEVENT
DTSTART:20250925T162500Z
DTEND:20250925T162500Z
X-MICROSOFT-CDO-ALLDAYEVENT:FALSE
SUMMARY:RIBBON CUTTING: Columbia College
DESCRIPTION:Dedication of the newly renovated Atkins Holman Student Commons & Burchard Cafe.
X-ALT-DESC;FMTTYPE=text/html:<p style="margin-top: 0px\; margin-bottom: 0px\;"><span data-olk-copy-source="CalendarCompose" style="font-family: Arial\, Helvetica\, sans-serif\; font-size: 11pt\; color: rgb(0\, 0\, 0)\;">Dedication of the newly renovated Atkins Holman Student Commons &amp\; Burchard Cafe.&nbsp\;</span></p>\n
LOCATION:1001 Rogers St\, Columbia\, MO 65216 Columbia College Campus in the Atkins Holman Student Commons. Park in the lot at 10th and Rogers. There will be spots saved for the Ambassadors. Walk through Rogers Gates. Take a soft diagonal right and enter the building where the tall two-story glass windows are\, that is Atkins Holman Student Commons. Enter that door and the "stage" will be mid-way in on your left. There will be refreshments.
UID:e.2790.12242
SEQUENCE:3
DTSTAMP:20260420T180525Z
URL:https://business.comochamber.com/events/details/ribbon-cutting-columbia-college-12242
END:VEVENT

END:VCALENDAR
