BEGIN:VCALENDAR
VERSION:2.0
PRODID:-//ChamberMaster//Event Calendar 2.0//EN
METHOD:PUBLISH
X-PUBLISHED-TTL:P3D
REFRESH-INTERVAL:P3D
CALSCALE:GREGORIAN
BEGIN:VEVENT
DTSTART:20240710T200000Z
DTEND:20240710T203000Z
X-MICROSOFT-CDO-ALLDAYEVENT:FALSE
SUMMARY:RIBBON CUTTING: Columbia College
DESCRIPTION:Ambassadors will schedule a ribbon cutting celebrating Columbia College's unveiling of their new Columbia College Signage at the Columbia Reginal Airport.
X-ALT-DESC;FMTTYPE=text/html:<span style="font-size:14px\;"><span style="font-family:verdana\;">Ambassadors will schedule a ribbon cutting celebrating Columbia College&#39\;s unveiling of their new Columbia College Signage at the Columbia Reginal Airport.</span></span>
LOCATION:Columbia College 11300 S. Airport Dr. Columbia MO 65201
UID:e.2790.11424
SEQUENCE:3
DTSTAMP:20260421T172907Z
URL:https://business.comochamber.com/events/details/ribbon-cutting-columbia-college-11424
END:VEVENT

END:VCALENDAR
