BEGIN:VCALENDAR
VERSION:2.0
PRODID:-//ChamberMaster//Event Calendar 2.0//EN
METHOD:PUBLISH
X-PUBLISHED-TTL:P3D
REFRESH-INTERVAL:P3D
CALSCALE:GREGORIAN
BEGIN:VEVENT
DTSTART:20241022T213000Z
DTEND:20241022T220000Z
X-MICROSOFT-CDO-ALLDAYEVENT:FALSE
SUMMARY:RIBBON CUTTING: Columbia Chamber of Commerce
DESCRIPTION:The Ambassadors will perform a ribbon cutting to celebrate the Nonprofit of the Year finalists.
X-ALT-DESC;FMTTYPE=text/html:The Ambassadors will perform a ribbon cutting to celebrate the Nonprofit of the Year finalists.
LOCATION:The Roof The Broadway Hotel 1111 East Broadway Columbia\, MO 65201
UID:e.2790.11649
SEQUENCE:3
DTSTAMP:20260421T093211Z
URL:https://business.comochamber.com/events/details/ribbon-cutting-columbia-chamber-of-commerce-11649
END:VEVENT

END:VCALENDAR
