BEGIN:VCALENDAR
VERSION:2.0
PRODID:-//ChamberMaster//Event Calendar 2.0//EN
METHOD:PUBLISH
X-PUBLISHED-TTL:P3D
REFRESH-INTERVAL:P3D
CALSCALE:GREGORIAN
BEGIN:VEVENT
DTSTART:20231004T200000Z
DTEND:20231004T203000Z
X-MICROSOFT-CDO-ALLDAYEVENT:FALSE
SUMMARY:RIBBON CUTTING: Columbia Center for Urban Agrigulture
DESCRIPTION:Ambassadors will host a ribbon cutting celebrating Columbia Center for Urban Agriculture's Opening of their Accessible Garden for Veterans\, friends and family.
X-ALT-DESC;FMTTYPE=text/html:<span style="font-size:14px\;"><span style="font-family:verdana\;">Ambassadors will host a ribbon cutting celebrating Columbia Center for Urban Agriculture&#39\;s Opening of their Accessible Garden for Veterans\, friends and family.</span></span>
LOCATION:Mark and Carol Stevenson Veterans Urban Farm 1209 Smith St Columbia MO 65201
UID:e.2790.11175
SEQUENCE:3
DTSTAMP:20260422T101826Z
URL:https://business.comochamber.com/events/details/ribbon-cutting-columbia-center-for-urban-agrigulture-11175
END:VEVENT

END:VCALENDAR
