BEGIN:VCALENDAR
VERSION:2.0
PRODID:-//ChamberMaster//Event Calendar 2.0//EN
METHOD:PUBLISH
X-PUBLISHED-TTL:P3D
REFRESH-INTERVAL:P3D
CALSCALE:GREGORIAN
BEGIN:VEVENT
DTSTART:20230120T180000Z
DTEND:20230120T183000Z
X-MICROSOFT-CDO-ALLDAYEVENT:FALSE
SUMMARY:RIBBON CUTTING: Columbia/Boone County Health Department
DESCRIPTION:Ambassadors will host a ribbon cutting celebrating the Columbia/ Boone County Health Department's announcement of their new mobile unit - Health on Wheels.
X-ALT-DESC;FMTTYPE=text/html:<span style="font-size:14px\;"><span style="font-family:verdana\;">Ambassadors will host a ribbon cutting celebrating the Columbia/ Boone County Health Department&#39\;s announcement of their new mobile unit - Health on Wheels.</span></span>
LOCATION:MU Health Care Pavilion ( Farmers Market) 1701 West Ash. St. Columbia MO 65203
UID:e.2790.10536
SEQUENCE:3
DTSTAMP:20260423T005551Z
URL:https://business.comochamber.com/events/details/ribbon-cutting-columbia-boone-county-health-department-10536
END:VEVENT

END:VCALENDAR
