BEGIN:VCALENDAR
VERSION:2.0
PRODID:-//ChamberMaster//Event Calendar 2.0//EN
METHOD:PUBLISH
X-PUBLISHED-TTL:P3D
REFRESH-INTERVAL:P3D
CALSCALE:GREGORIAN
BEGIN:VEVENT
DTSTART:20240419T203000Z
DTEND:20240419T210000Z
X-MICROSOFT-CDO-ALLDAYEVENT:FALSE
SUMMARY:RIBBON CUTTING: Columbia Board of Education
DESCRIPTION:Ambassadors will host a ribbon cutting celebrating Columbia Board of Education's Groundbreaking for the new elementary school in South Columbia.
X-ALT-DESC;FMTTYPE=text/html:<span style="font-size:14px\;"><span style="font-family:verdana\;">Ambassadors will host a ribbon cutting celebrating Columbia Board of Education&#39\;s Groundbreaking for the new elementary school in South Columbia.</span></span>
LOCATION:5550 Sinclair Rd. Columbia MO 65203
UID:e.2790.11243
SEQUENCE:3
DTSTAMP:20260421T223441Z
URL:https://business.comochamber.com/events/details/ribbon-cutting-columbia-board-of-education-11243
END:VEVENT

END:VCALENDAR
