BEGIN:VCALENDAR
VERSION:2.0
PRODID:-//ChamberMaster//Event Calendar 2.0//EN
METHOD:PUBLISH
X-PUBLISHED-TTL:P3D
REFRESH-INTERVAL:P3D
CALSCALE:GREGORIAN
BEGIN:VEVENT
DTSTART:20231018T150000Z
DTEND:20231018T150000Z
X-MICROSOFT-CDO-ALLDAYEVENT:FALSE
SUMMARY:RIBBON CUTTING: Columbia Board of Education
DESCRIPTION:Ambassadors will host a ribbon cutting celebrating Columbia Public Schools\, Boone County Nature School Council House Dedication.
X-ALT-DESC;FMTTYPE=text/html:Ambassadors will host a ribbon cutting celebrating Columbia Public Schools\, Boone County Nature School Council House Dedication.
LOCATION:Boone County Nature School Property - Construction Site Missouir 65203- 1038 Map: Nature-School-Council-House-Dedication-Invite-1.pdf
UID:e.2790.11181
SEQUENCE:3
DTSTAMP:20260422T101641Z
URL:https://business.comochamber.com/events/details/ribbon-cutting-columbia-board-of-education-11181
END:VEVENT

END:VCALENDAR
