BEGIN:VCALENDAR
VERSION:2.0
PRODID:-//ChamberMaster//Event Calendar 2.0//EN
METHOD:PUBLISH
X-PUBLISHED-TTL:P3D
REFRESH-INTERVAL:P3D
CALSCALE:GREGORIAN
BEGIN:VEVENT
DTSTART:20240430T223000Z
DTEND:20240430T230000Z
X-MICROSOFT-CDO-ALLDAYEVENT:FALSE
SUMMARY:RIBBON CUTTING: Columbia Board of Educaiton
DESCRIPTION:Ambassadors will host a ribbon cutting celebrating the Columbia Board of Education's dedication of Peace Pole at Battle High School\, for a project that was led by the Interact Club at the school sponsored by Columbia Metro Rotary.
X-ALT-DESC;FMTTYPE=text/html:<span style="font-size:14px\;"><span style="font-family:verdana\;">Ambassadors will host a ribbon cutting celebrating the Columbia Board of Education&#39\;s dedication of Peace Pole at Battle High School\, for a project that was led by the Interact Club at the school sponsored by Columbia Metro Rotary.</span></span>
LOCATION:Battle High School 7575 E St. Charles Rd. Columbia MO 65202
UID:e.2790.11257
SEQUENCE:3
DTSTAMP:20260421T223432Z
URL:https://business.comochamber.com/events/details/ribbon-cutting-columbia-board-of-educaiton-11257
END:VEVENT

END:VCALENDAR
