BEGIN:VCALENDAR
VERSION:2.0
PRODID:-//ChamberMaster//Event Calendar 2.0//EN
METHOD:PUBLISH
X-PUBLISHED-TTL:P3D
REFRESH-INTERVAL:P3D
CALSCALE:GREGORIAN
BEGIN:VEVENT
DTSTART:20241017T140000Z
DTEND:20241017T143000Z
X-MICROSOFT-CDO-ALLDAYEVENT:FALSE
SUMMARY:RIBBON CUTTING: Clarity Healthcare - Scholar Clinic
DESCRIPTION:The Ambassadors will perform a ribbon cutting to celebrate the opening of the new clinic.\n\nDr. Yearwood will speak.  Mat and Megan from Burrell Central Region Leadership and Representation from Brightli and Brightli Foundation will be present.
X-ALT-DESC;FMTTYPE=text/html:The Ambassadors will perform a ribbon cutting to celebrate the opening of the new clinic.<br />\nDr. Yearwood will speak.&nbsp\; Mat and Megan from Burrell Central Region Leadership and Representation from Brightli and Brightli Foundation will be present.
LOCATION:Clarity Healthcare - Scholar Clinic 1010 Rangeline St. Columbia\, MO 65201
UID:e.2790.11628
SEQUENCE:3
DTSTAMP:20260421T105253Z
URL:https://business.comochamber.com/events/details/ribbon-cutting-clarity-healthcare-scholar-clinic-11628
END:VEVENT

END:VCALENDAR
