BEGIN:VCALENDAR
VERSION:2.0
PRODID:-//ChamberMaster//Event Calendar 2.0//EN
METHOD:PUBLISH
X-PUBLISHED-TTL:P3D
REFRESH-INTERVAL:P3D
CALSCALE:GREGORIAN
BEGIN:VEVENT
DTSTART:20241030T214500Z
DTEND:20241030T221500Z
X-MICROSOFT-CDO-ALLDAYEVENT:FALSE
SUMMARY:RIBBON CUTTING: City of Columbia
DESCRIPTION:The Ambassadors will perform a ribbon cutting to reveal and show four new public art sculptures at Clary-Shy Community Park.
X-ALT-DESC;FMTTYPE=text/html:The Ambassadors will perform a ribbon cutting to reveal and show four new public art sculptures at Clary-Shy Community Park.
LOCATION:Clary-Shy Community Park 1701 West Ash Street Columbia\, MO 65203
UID:e.2790.11650
SEQUENCE:3
DTSTAMP:20260421T093352Z
URL:https://business.comochamber.com/events/details/ribbon-cutting-city-of-columbia-11650
END:VEVENT

END:VCALENDAR
