BEGIN:VCALENDAR
VERSION:2.0
PRODID:-//ChamberMaster//Event Calendar 2.0//EN
METHOD:PUBLISH
X-PUBLISHED-TTL:P3D
REFRESH-INTERVAL:P3D
CALSCALE:GREGORIAN
BEGIN:VEVENT
DTSTART:20220426T143000Z
DTEND:20220426T150000Z
X-MICROSOFT-CDO-ALLDAYEVENT:FALSE
SUMMARY:RIBBON CUTTING: Chicken Salad Chick
DESCRIPTION:Ambassador will host a ribbon cutting celebrating Chicken Salad Chick's Grand Opening.
X-ALT-DESC;FMTTYPE=text/html:<span style="font-size:14px\;"><span style="font-family:verdana\;">Ambassador will host a ribbon cutting celebrating Chicken Salad Chick&#39\;s Grand Opening.</span></span>
LOCATION:Chick Salad Chick 300 Brickton Rd. Columbia MO 65201
UID:e.2790.8946
SEQUENCE:3
DTSTAMP:20260423T163931Z
URL:https://business.comochamber.com/events/details/ribbon-cutting-chicken-salad-chick-8946
END:VEVENT

END:VCALENDAR
