BEGIN:VCALENDAR
VERSION:2.0
PRODID:-//ChamberMaster//Event Calendar 2.0//EN
METHOD:PUBLISH
X-PUBLISHED-TTL:P3D
REFRESH-INTERVAL:P3D
CALSCALE:GREGORIAN
BEGIN:VEVENT
DTSTART:20201105T183000Z
DTEND:20201105T190000Z
X-MICROSOFT-CDO-ALLDAYEVENT:FALSE
SUMMARY:RIBBON CUTTING: Change Collaborative
DESCRIPTION:Ambassadors will host a ribbon cutting celebrating the announcement of the new business Change Collaborative.
X-ALT-DESC;FMTTYPE=text/html:Ambassadors will host a ribbon cutting celebrating the announcement of the new business Change Collaborative.&nbsp\;
LOCATION:Change Collaborative 910 E. Broadway Ste. 203 Columbia MO 65201 Virtual: https://us02web.zoom.us/j/86067863435 Meeting ID: 860 6786 3435 Dial by your location: +1 312 626 6799
UID:e.2790.7725
SEQUENCE:3
DTSTAMP:20260424T201518Z
URL:https://business.comochamber.com/events/details/ribbon-cutting-change-collaborative-7725
END:VEVENT

END:VCALENDAR
