BEGIN:VCALENDAR
VERSION:2.0
PRODID:-//ChamberMaster//Event Calendar 2.0//EN
METHOD:PUBLISH
X-PUBLISHED-TTL:P3D
REFRESH-INTERVAL:P3D
CALSCALE:GREGORIAN
BEGIN:VEVENT
DTSTART:20250308T150000Z
DTEND:20250308T153000Z
X-MICROSOFT-CDO-ALLDAYEVENT:FALSE
SUMMARY:RIBBON CUTTING: Champs Chicken
DESCRIPTION:The Ambassadors will perform a ribbon cutting to celebrate the grand opening of Champs Chicken's newest location.
X-ALT-DESC;FMTTYPE=text/html:The Ambassadors will perform a ribbon cutting to celebrate the grand opening of Champs Chicken&#39\;s newest location.
LOCATION:Champs Chicken 1411 Cinnamon Hill Lane Columbia\, MO 65201
UID:e.2790.11977
SEQUENCE:3
DTSTAMP:20260421T015749Z
URL:https://business.comochamber.com/events/details/ribbon-cutting-champs-chicken-11977
END:VEVENT

END:VCALENDAR
