BEGIN:VCALENDAR
VERSION:2.0
PRODID:-//ChamberMaster//Event Calendar 2.0//EN
METHOD:PUBLISH
X-PUBLISHED-TTL:P3D
REFRESH-INTERVAL:P3D
CALSCALE:GREGORIAN
BEGIN:VEVENT
DTSTART:20241003T173000Z
DTEND:20241003T180000Z
X-MICROSOFT-CDO-ALLDAYEVENT:FALSE
SUMMARY:RIBBON CUTTING: Central Missouri Community Action
DESCRIPTION:The Ambassadors will conduct a ribbon cutting to mark a ground breaking ceremony.
X-ALT-DESC;FMTTYPE=text/html:The Ambassadors will conduct a ribbon cutting to mark a ground breaking ceremony.
LOCATION:Vacant lot (Providence and Hickman) 608 N Providence Rd Columbia\, MO 65203
UID:e.2790.11627
SEQUENCE:3
DTSTAMP:20260421T092219Z
URL:https://business.comochamber.com/events/details/ribbon-cutting-central-missouri-community-action-11627
END:VEVENT

END:VCALENDAR
